BEGIN:VCALENDAR
VERSION:2.0
PRODID:-//Abbotsford Stock Yards - ECPv4.6.22//NONSGML v1.0//EN
CALSCALE:GREGORIAN
METHOD:PUBLISH
X-WR-CALNAME:Abbotsford Stock Yards
X-ORIGINAL-URL:https://abbystockyards.ca
X-WR-CALDESC:Events for Abbotsford Stock Yards
BEGIN:VEVENT
DTSTART;TZID=UTC+0:20190828T113000
DTEND;TZID=UTC+0:20190828T170000
DTSTAMP:20260424T054011
CREATED:20190822T010042Z
LAST-MODIFIED:20190822T045108Z
UID:91-1566991800-1567011600@abbystockyards.ca
SUMMARY:Feeder Sale 11:30 AM Start
DESCRIPTION:August 28\, 2019- Feeder Sale \nWe will be featuring 100 cow/calf pairs from the late Dan Foley.  \nThe cows are red & black Angus/Simmental crosses.  They were bred to Good Simental/Angus bulls from Brian Sulter & Dan Skeels. The calves were born March-May. \nThe Bulls have been running with the cows since June. \nA very nice herd!! \n
URL:https://abbystockyards.ca/event/feeder-sale-1130-start/
CATEGORIES:Beef/Feeder
END:VEVENT
END:VCALENDAR