BEGIN:VCALENDAR
VERSION:2.0
PRODID:-//Abbotsford Stock Yards - ECPv4.6.22//NONSGML v1.0//EN
CALSCALE:GREGORIAN
METHOD:PUBLISH
X-WR-CALNAME:Abbotsford Stock Yards
X-ORIGINAL-URL:https://abbystockyards.ca
X-WR-CALDESC:Events for Abbotsford Stock Yards
BEGIN:VEVENT
DTSTART;TZID=UTC+0:20201118T113000
DTEND;TZID=UTC+0:20201118T123000
DTSTAMP:20260422T233030
CREATED:20201112T064101Z
LAST-MODIFIED:20201112T064101Z
UID:482-1605699000-1605702600@abbystockyards.ca
SUMMARY:Swap Sale November 18 @ 11:30 AM
DESCRIPTION:
URL:https://abbystockyards.ca/event/swap-sale-november-18-1130-am/
CATEGORIES:Dairy Sales
END:VEVENT
END:VCALENDAR