BEGIN:VCALENDAR
VERSION:2.0
PRODID:-//Abbotsford Stock Yards - ECPv4.6.22//NONSGML v1.0//EN
CALSCALE:GREGORIAN
METHOD:PUBLISH
X-WR-CALNAME:Abbotsford Stock Yards
X-ORIGINAL-URL:https://abbystockyards.ca
X-WR-CALDESC:Events for Abbotsford Stock Yards
BEGIN:VEVENT
DTSTART;TZID=UTC+0:20220720T110000
DTEND;TZID=UTC+0:20220720T140000
DTSTAMP:20260422T140702
CREATED:20220720T071057Z
LAST-MODIFIED:20220720T071125Z
UID:1313-1658314800-1658325600@abbystockyards.ca
SUMMARY:Swap Sale
DESCRIPTION:
URL:https://abbystockyards.ca/event/swap-sale-3/
CATEGORIES:SWAP
END:VEVENT
END:VCALENDAR