BEGIN:VCALENDAR
VERSION:2.0
PRODID:-//Abbotsford Stock Yards - ECPv4.6.22//NONSGML v1.0//EN
CALSCALE:GREGORIAN
METHOD:PUBLISH
X-WR-CALNAME:Abbotsford Stock Yards
X-ORIGINAL-URL:https://abbystockyards.ca
X-WR-CALDESC:Events for Abbotsford Stock Yards
BEGIN:VEVENT
DTSTART;TZID=UTC+0:20210721T113000
DTEND;TZID=UTC+0:20210721T133000
DTSTAMP:20260422T190546
CREATED:20210706T091809Z
LAST-MODIFIED:20210706T091809Z
UID:618-1626867000-1626874200@abbystockyards.ca
SUMMARY:Swap Quota Sale
DESCRIPTION:
URL:https://abbystockyards.ca/event/swap-quota-sale/
CATEGORIES:SWAP
END:VEVENT
END:VCALENDAR