BEGIN:VCALENDAR
VERSION:2.0
PRODID:-//Abbotsford Stock Yards - ECPv4.6.22//NONSGML v1.0//EN
CALSCALE:GREGORIAN
METHOD:PUBLISH
X-WR-CALNAME:Abbotsford Stock Yards
X-ORIGINAL-URL:https://abbystockyards.ca
X-WR-CALDESC:Events for Abbotsford Stock Yards
BEGIN:VEVENT
DTSTART;TZID=UTC+0:20210421T113000
DTEND;TZID=UTC+0:20210421T133000
DTSTAMP:20260422T215012
CREATED:20210407T062815Z
LAST-MODIFIED:20210407T062815Z
UID:568-1619004600-1619011800@abbystockyards.ca
SUMMARY:Swap Credits Auction
DESCRIPTION:
URL:https://abbystockyards.ca/event/swap-credits-auction/
LOCATION:Abby Stockyards\, 34559 McCLARY AVENUE\, Abbotsford\, BC\, V2T 6Z4\, Canada
END:VEVENT
END:VCALENDAR