BEGIN:VCALENDAR
VERSION:2.0
PRODID:-//Abbotsford Stock Yards - ECPv4.6.22//NONSGML v1.0//EN
CALSCALE:GREGORIAN
METHOD:PUBLISH
X-WR-CALNAME:Abbotsford Stock Yards
X-ORIGINAL-URL:https://abbystockyards.ca
X-WR-CALDESC:Events for Abbotsford Stock Yards
BEGIN:VEVENT
DTSTART;TZID=UTC+0:20210818T113000
DTEND;TZID=UTC+0:20210818T133000
DTSTAMP:20260422T173653
CREATED:20210722T010831Z
LAST-MODIFIED:20210722T011048Z
UID:628-1629286200-1629293400@abbystockyards.ca
SUMMARY:Quota Swap Sale
DESCRIPTION:
URL:https://abbystockyards.ca/event/quota-swap-sale-2/
CATEGORIES:SWAP
END:VEVENT
END:VCALENDAR