BEGIN:VCALENDAR
VERSION:2.0
PRODID:-//Abbotsford Stock Yards - ECPv4.6.22//NONSGML v1.0//EN
CALSCALE:GREGORIAN
METHOD:PUBLISH
X-WR-CALNAME:Abbotsford Stock Yards
X-ORIGINAL-URL:https://abbystockyards.ca
X-WR-CALDESC:Events for Abbotsford Stock Yards
BEGIN:VEVENT
DTSTART;TZID=UTC+0:20200923T113000
DTEND;TZID=UTC+0:20200923T143000
DTSTAMP:20260424T054507
CREATED:20200910T230631Z
LAST-MODIFIED:20200910T231228Z
UID:390-1600860600-1600871400@abbystockyards.ca
SUMMARY:Large Feeder Sale September 23 @ 11:30
DESCRIPTION:
URL:https://abbystockyards.ca/event/large-feeder-sale-september-23-1130/
END:VEVENT
END:VCALENDAR