BEGIN:VCALENDAR
VERSION:2.0
PRODID:-//Abbotsford Stock Yards - ECPv4.6.22//NONSGML v1.0//EN
CALSCALE:GREGORIAN
METHOD:PUBLISH
X-WR-CALNAME:Abbotsford Stock Yards
X-ORIGINAL-URL:https://abbystockyards.ca
X-WR-CALDESC:Events for Abbotsford Stock Yards
BEGIN:VEVENT
DTSTART;TZID=UTC+0:20210908T113000
DTEND;TZID=UTC+0:20210908T133000
DTSTAMP:20260422T140847
CREATED:20210819T025740Z
LAST-MODIFIED:20210819T025740Z
UID:652-1631100600-1631107800@abbystockyards.ca
SUMMARY:Feeder Sale
DESCRIPTION:
URL:https://abbystockyards.ca/event/feeder-sale-2/
CATEGORIES:Beef/Feeder
END:VEVENT
END:VCALENDAR