BEGIN:VCALENDAR
VERSION:2.0
PRODID:-//Abbotsford Stock Yards - ECPv4.6.22//NONSGML v1.0//EN
CALSCALE:GREGORIAN
METHOD:PUBLISH
X-WR-CALNAME:Abbotsford Stock Yards
X-ORIGINAL-URL:https://abbystockyards.ca
X-WR-CALDESC:Events for Abbotsford Stock Yards
BEGIN:VEVENT
DTSTART;TZID=UTC+0:20210512T113000
DTEND;TZID=UTC+0:20210512T133000
DTSTAMP:20260422T215012
CREATED:20210325T021312Z
LAST-MODIFIED:20210325T021312Z
UID:550-1620819000-1620826200@abbystockyards.ca
SUMMARY:Feeder Auction @ 11:30am
DESCRIPTION:
URL:https://abbystockyards.ca/event/feeder-auction-1130am-3/
LOCATION:Abby Stockyards\, 34559 McCLARY AVENUE\, Abbotsford\, BC\, V2T 6Z4\, Canada
CATEGORIES:Beef/Feeder
END:VEVENT
END:VCALENDAR