BEGIN:VCALENDAR
VERSION:2.0
PRODID:-//Abbotsford Stock Yards - ECPv4.6.22//NONSGML v1.0//EN
CALSCALE:GREGORIAN
METHOD:PUBLISH
X-WR-CALNAME:Abbotsford Stock Yards
X-ORIGINAL-URL:https://abbystockyards.ca
X-WR-CALDESC:Events for Abbotsford Stock Yards
BEGIN:VEVENT
DTSTART;TZID=UTC+0:20190904T113000
DTEND;TZID=UTC+0:20190904T170000
DTSTAMP:20260424T054420
CREATED:20190822T013828Z
LAST-MODIFIED:20190822T014212Z
UID:113-1567596600-1567616400@abbystockyards.ca
SUMMARY:Dairy & Feeder Sale 11:30 AM Start
DESCRIPTION:
URL:https://abbystockyards.ca/event/dairy-feeder-sale-1130-start-2/
CATEGORIES:Beef/Feeder,Dairy Sales
END:VEVENT
END:VCALENDAR