BEGIN:VCALENDAR
VERSION:2.0
PRODID:-//Abbotsford Stock Yards - ECPv4.6.22//NONSGML v1.0//EN
CALSCALE:GREGORIAN
METHOD:PUBLISH
X-WR-CALNAME:Abbotsford Stock Yards
X-ORIGINAL-URL:https://abbystockyards.ca
X-WR-CALDESC:Events for Abbotsford Stock Yards
BEGIN:VEVENT
DTSTART;VALUE=DATE:20190902
DTEND;VALUE=DATE:20190903
DTSTAMP:20260424T060450
CREATED:20190829T235635Z
LAST-MODIFIED:20190829T235636Z
UID:165-1567382400-1567468799@abbystockyards.ca
SUMMARY:Closed for Labor Day
DESCRIPTION:
URL:https://abbystockyards.ca/event/closed-for-labor-day/
END:VEVENT
END:VCALENDAR